{"text_format":"3","workbook":"xlsx","n_sheets":1,"sheets":["Sheet1"],"not_rendered":{"external_links":1,"defined_names":2},"read":"whole","date_system":"1900"}

{"sheet":"Sheet1","index":0,"n_rows":60,"n_cols":9,"rows_kept":60,"merged":[[0,0,0,8]]}
["2025年下半年广东省连州市赴高校设点面向社会公开招聘编制教师第一批拟聘用人员名单"]
["序号","姓名","岗位名称","岗位代码","学历","学位","毕业院校","专业","拟聘用单位"]
[{"$f":"ROW()-2","v":1},"聂珊",{"$f":"VLOOKUP(B3,[1]Sheet1!B$2:Y$74,9,0)","v":"高中语文教师"},{"$f":"VLOOKUP(B3,[1]Sheet1!B$2:Y$74,8,0)","v":"101"},"本科","学士",{"$f":"VLOOKUP(B3,[1]Sheet1!B$2:Y$74,17,0)","v":"衡阳师范学院南岳学院"},"汉语言文学","广州六中连州实验中学"]
[{"$f":"ROW()-2","v":2},"蒋璇",{"$f":"VLOOKUP(B4,[1]Sheet1!B$2:Y$74,9,0)","v":"高中数学教师"},{"$f":"VLOOKUP(B4,[1]Sheet1!B$2:Y$74,8,0)","v":"102"},"本科","学士",{"$f":"VLOOKUP(B4,[1]Sheet1!B$2:Y$74,17,0)","v":"湖南科技学院"},"数学与应用数学","连州中学"]
[{"$f":"ROW()-2","v":3},"冯诚",{"$f":"VLOOKUP(B5,[1]Sheet1!B$2:Y$74,9,0)","v":"高中数学教师"},{"$f":"VLOOKUP(B5,[1]Sheet1!B$2:Y$74,8,0)","v":"102"},"本科","学士",{"$f":"VLOOKUP(B5,[1]Sheet1!B$2:Y$74,17,0)","v":"湖南文理学院芙蓉学院"},"数学与应用数学","连州市第二中学"]
[{"$f":"ROW()-2","v":4},"王佳庆",{"$f":"VLOOKUP(B6,[1]Sheet1!B$2:Y$74,9,0)","v":"高中数学教师"},{"$f":"VLOOKUP(B6,[1]Sheet1!B$2:Y$74,8,0)","v":"102"},"本科","学士",{"$f":"VLOOKUP(B6,[1]Sheet1!B$2:Y$74,17,0)","v":"湖南文理学院芙蓉学院"},"数学与应用数学","广州六中连州实验中学"]
[{"$f":"ROW()-2","v":5},"石小龙",{"$f":"VLOOKUP(B7,[1]Sheet1!B$2:Y$74,9,0)","v":"高中数学教师"},{"$f":"VLOOKUP(B7,[1]Sheet1!B$2:Y$74,8,0)","v":"102"},"本科","学士",{"$f":"VLOOKUP(B7,[1]Sheet1!B$2:Y$74,17,0)","v":"衡阳师范学院南岳学院"},"数学与应用数学","连州市第二中学"]
[6,"黄嘉慧",{"$f":"VLOOKUP(B8,[1]Sheet1!B$2:Y$74,9,0)","v":"高中数学教师"},{"$f":"VLOOKUP(B8,[1]Sheet1!B$2:Y$74,8,0)","v":"102"},"本科","学士",{"$f":"VLOOKUP(B8,[1]Sheet1!B$2:Y$74,17,0)","v":"韩山师范学院"},"数学与应用数学","广州六中连州实验中学"]
[7,"吴泽廷",{"$f":"VLOOKUP(B9,[1]Sheet1!B$2:Y$74,9,0)","v":"高中数学教师"},{"$f":"VLOOKUP(B9,[1]Sheet1!B$2:Y$74,8,0)","v":"102"},"本科","学士",{"$f":"VLOOKUP(B9,[1]Sheet1!B$2:Y$74,17,0)","v":"湖南师范大学树达学院"},"数学与应用数学","连州中学"]
[8,"韦国源",{"$f":"VLOOKUP(B10,[1]Sheet1!B$2:Y$74,9,0)","v":"高中数学教师"},{"$f":"VLOOKUP(B10,[1]Sheet1!B$2:Y$74,8,0)","v":"102"},"本科","学士",{"$f":"VLOOKUP(B10,[1]Sheet1!B$2:Y$74,17,0)","v":"惠州学院"},"数学与应用数学","连州市第二中学"]
[9,"娄志平",{"$f":"VLOOKUP(B11,[1]Sheet1!B$2:Y$74,9,0)","v":"高中英语教师"},{"$f":"VLOOKUP(B11,[1]Sheet1!B$2:Y$74,8,0)","v":"103"},"本科","学士",{"$f":"VLOOKUP(B11,[1]Sheet1!B$2:Y$74,17,0)","v":"江西科技师范大学"},"英语","广州六中连州实验中学"]
[10,"郭丽敏",{"$f":"VLOOKUP(B12,[1]Sheet1!B$2:Y$74,9,0)","v":"高中英语教师"},{"$f":"VLOOKUP(B12,[1]Sheet1!B$2:Y$74,8,0)","v":"103"},"本科","学士",{"$f":"VLOOKUP(B12,[1]Sheet1!B$2:Y$74,17,0)","v":"井冈山大学"},"英语（师范类）","连州市第二中学"]
[11,"陈慧儿",{"$f":"VLOOKUP(B13,[1]Sheet1!B$2:Y$74,9,0)","v":"高中英语教师"},{"$f":"VLOOKUP(B13,[1]Sheet1!B$2:Y$74,8,0)","v":"103"},"研究生","硕士",{"$f":"VLOOKUP(B13,[1]Sheet1!B$2:Y$74,17,0)","v":"广东外语外贸大学"},"英语笔译","广州六中连州实验中学"]
[12,"戴洁",{"$f":"VLOOKUP(B14,[1]Sheet1!B$2:Y$74,9,0)","v":"高中物理教师"},{"$f":"VLOOKUP(B14,[1]Sheet1!B$2:Y$74,8,0)","v":"104"},"本科","学士",{"$f":"VLOOKUP(B14,[1]Sheet1!B$2:Y$74,17,0)","v":"怀化学院"},"物理学（师范）","连州市第二中学"]
[{"$f":"ROW()-2","v":13},"黎春意",{"$f":"VLOOKUP(B15,[1]Sheet1!B$2:Y$74,9,0)","v":"高中化学教师"},{"$f":"VLOOKUP(B15,[1]Sheet1!B$2:Y$74,8,0)","v":"105"},"本科","学士",{"$f":"VLOOKUP(B15,[1]Sheet1!B$2:Y$74,17,0)","v":"岭南师范学院"},"化学","广州六中连州实验中学"]
[14,"晏静琪",{"$f":"VLOOKUP(B16,[1]Sheet1!B$2:Y$74,9,0)","v":"高中化学教师"},{"$f":"VLOOKUP(B16,[1]Sheet1!B$2:Y$74,8,0)","v":"105"},"本科","学士",{"$f":"VLOOKUP(B16,[1]Sheet1!B$2:Y$74,17,0)","v":"岭南师范学院"},"化学","连州中学"]
[15,"吴志龙",{"$f":"VLOOKUP(B17,[1]Sheet1!B$2:Y$74,9,0)","v":"高中化学教师"},{"$f":"VLOOKUP(B17,[1]Sheet1!B$2:Y$74,8,0)","v":"105"},"本科","学士",{"$f":"VLOOKUP(B17,[1]Sheet1!B$2:Y$74,17,0)","v":"嘉应学院"},"化学","连州市第二中学"]
[16,"林宝文",{"$f":"VLOOKUP(B18,[1]Sheet1!B$2:Y$74,9,0)","v":"高中思想政治教师"},{"$f":"VLOOKUP(B18,[1]Sheet1!B$2:Y$74,8,0)","v":"106"},"本科","学士",{"$f":"VLOOKUP(B18,[1]Sheet1!B$2:Y$74,17,0)","v":"岭南师范学院"},"思想政治教育","连州中学"]
[17,"王沛",{"$f":"VLOOKUP(B19,[1]Sheet1!B$2:Y$74,9,0)","v":"高中思想政治教师"},{"$f":"VLOOKUP(B19,[1]Sheet1!B$2:Y$74,8,0)","v":"106"},"本科","学士","华南师范大学","思想政治教育（师范）","连州市第二中学"]
[18,"曹贝贝",{"$f":"VLOOKUP(B20,[1]Sheet1!B$2:Y$74,9,0)","v":"高中历史教师"},{"$f":"VLOOKUP(B20,[1]Sheet1!B$2:Y$74,8,0)","v":"107"},"本科","学士",{"$f":"VLOOKUP(B20,[1]Sheet1!B$2:Y$74,17,0)","v":"赣南师范大学科技学院"},"历史学（师范）","连州市第二中学"]
[19,"陈雅玲",{"$f":"VLOOKUP(B21,[1]Sheet1!B$2:Y$74,9,0)","v":"高中地理教师"},{"$f":"VLOOKUP(B21,[1]Sheet1!B$2:Y$74,8,0)","v":"108"},"本科","学士",{"$f":"VLOOKUP(B21,[1]Sheet1!B$2:Y$74,17,0)","v":"湖南师范大学"},"地理科学","广州六中连州实验中学"]
[20,"胡可颖",{"$f":"VLOOKUP(B22,[1]Sheet1!B$2:Y$74,9,0)","v":"高中地理教师"},{"$f":"VLOOKUP(B22,[1]Sheet1!B$2:Y$74,8,0)","v":"108"},"本科","学士",{"$f":"VLOOKUP(B22,[1]Sheet1!B$2:Y$74,17,0)","v":"韶关学院"},"地理科学","连州中学"]
[21,"温景希",{"$f":"VLOOKUP(B23,[1]Sheet1!B$2:Y$74,9,0)","v":"高中地理教师"},{"$f":"VLOOKUP(B23,[1]Sheet1!B$2:Y$74,8,0)","v":"108"},"本科","学士",{"$f":"VLOOKUP(B23,[1]Sheet1!B$2:Y$74,17,0)","v":"岭南师范学院"},"地理科学","连州市第二中学"]
[22,"张子骏",{"$f":"VLOOKUP(B24,[1]Sheet1!B$2:Y$74,9,0)","v":"高中体育教师"},{"$f":"VLOOKUP(B24,[1]Sheet1!B$2:Y$74,8,0)","v":"109"},"本科","学士",{"$f":"VLOOKUP(B24,[1]Sheet1!B$2:Y$74,17,0)","v":"韶关学院"},"体育教育","广州六中连州实验中学"]
[{"$f":"ROW()-2","v":23},"廖涵",{"$f":"VLOOKUP(B25,[1]Sheet1!B$2:Y$74,9,0)","v":"高中体育教师"},{"$f":"VLOOKUP(B25,[1]Sheet1!B$2:Y$74,8,0)","v":"109"},"本科","学士",{"$f":"VLOOKUP(B25,[1]Sheet1!B$2:Y$74,17,0)","v":"韶关学院"},"体育教育","连州市第二中学"]
[24,"刘梓健",{"$f":"VLOOKUP(B26,[1]Sheet1!B$2:Y$74,9,0)","v":"高中体育教师"},{"$f":"VLOOKUP(B26,[1]Sheet1!B$2:Y$74,8,0)","v":"109"},"本科","学士",{"$f":"VLOOKUP(B26,[1]Sheet1!B$2:Y$74,17,0)","v":"广西师范大学"},"武术与民族传统体育","广州六中连州实验中学"]
[25,"邓淑兰",{"$f":"VLOOKUP(B27,[1]Sheet1!B$2:Y$74,9,0)","v":"初中语文教师"},{"$f":"VLOOKUP(B27,[1]Sheet1!B$2:Y$74,8,0)","v":"110"},"本科","学士",{"$f":"VLOOKUP(B27,[1]Sheet1!B$2:Y$74,17,0)","v":"韩山师范学院"},"汉语言文学","广州六中连州实验中学"]
[26,"伍思蕙",{"$f":"VLOOKUP(B28,[1]Sheet1!B$2:Y$74,9,0)","v":"初中语文教师"},{"$f":"VLOOKUP(B28,[1]Sheet1!B$2:Y$74,8,0)","v":"110"},"本科","学士",{"$f":"VLOOKUP(B28,[1]Sheet1!B$2:Y$74,17,0)","v":"临沂大学"},"汉语言文学","连州市第二中学"]
[27,"金昌昊",{"$f":"VLOOKUP(B29,[1]Sheet1!B$2:Y$74,9,0)","v":"初中数学教师"},{"$f":"VLOOKUP(B29,[1]Sheet1!B$2:Y$74,8,0)","v":"111"},"本科","学士",{"$f":"VLOOKUP(B29,[1]Sheet1!B$2:Y$74,17,0)","v":"邵阳学院"},"数学与应用数学","连州市第二中学"]
[28,"彭晨",{"$f":"VLOOKUP(B30,[1]Sheet1!B$2:Y$74,9,0)","v":"初中数学教师"},{"$f":"VLOOKUP(B30,[1]Sheet1!B$2:Y$74,8,0)","v":"111"},"本科","学士","吉首大学","数学与应用数学（师范）","连州市北山中学"]
[29,"夏明伟",{"$f":"VLOOKUP(B31,[1]Sheet1!B$2:Y$74,9,0)","v":"初中数学教师"},{"$f":"VLOOKUP(B31,[1]Sheet1!B$2:Y$74,8,0)","v":"111"},"本科","学士",{"$f":"VLOOKUP(B31,[1]Sheet1!B$2:Y$74,17,0)","v":"遵义师范学院"},"数学与应用数学","连州市第二中学"]
[30,"周钦攀",{"$f":"VLOOKUP(B32,[1]Sheet1!B$2:Y$74,9,0)","v":"初中数学教师"},{"$f":"VLOOKUP(B32,[1]Sheet1!B$2:Y$74,8,0)","v":"111"},"本科","学士",{"$f":"VLOOKUP(B32,[1]Sheet1!B$2:Y$74,17,0)","v":"上饶师范学院"},"数学与应用数学（师范）","连州市慧光中学"]
[31,"邵宏昌",{"$f":"VLOOKUP(B33,[1]Sheet1!B$2:Y$74,9,0)","v":"初中数学教师"},{"$f":"VLOOKUP(B33,[1]Sheet1!B$2:Y$74,8,0)","v":"111"},"本科","学士",{"$f":"VLOOKUP(B33,[1]Sheet1!B$2:Y$74,17,0)","v":"衡阳师范学院南岳学院"},"数学与应用数学","连州市慧光中学"]
[32,"肖蕊",{"$f":"VLOOKUP(B34,[1]Sheet1!B$2:Y$74,9,0)","v":"初中数学教师"},{"$f":"VLOOKUP(B34,[1]Sheet1!B$2:Y$74,8,0)","v":"111"},"本科","学士",{"$f":"VLOOKUP(B34,[1]Sheet1!B$2:Y$74,17,0)","v":"安阳师范学院"},"数学与应用数学","连州市龙坪中学"]
[{"$f":"ROW()-2","v":33},"郑明荣",{"$f":"VLOOKUP(B35,[1]Sheet1!B$2:Y$74,9,0)","v":"初中数学教师"},{"$f":"VLOOKUP(B35,[1]Sheet1!B$2:Y$74,8,0)","v":"111"},"本科","学士",{"$f":"VLOOKUP(B35,[1]Sheet1!B$2:Y$74,17,0)","v":"衡阳师范学院南岳学院"},"数学与应用数学","连州市大路边中学"]
[34,"李威霖",{"$f":"VLOOKUP(B36,[1]Sheet1!B$2:Y$74,9,0)","v":"初中数学教师"},{"$f":"VLOOKUP(B36,[1]Sheet1!B$2:Y$74,8,0)","v":"111"},"本科","学士",{"$f":"VLOOKUP(B36,[1]Sheet1!B$2:Y$74,17,0)","v":"肇庆学院"},"数学与应用数学","连州市大路边中学"]
[35,"李婷",{"$f":"VLOOKUP(B37,[1]Sheet1!B$2:Y$74,9,0)","v":"初中英语教师"},{"$f":"VLOOKUP(B37,[1]Sheet1!B$2:Y$74,8,0)","v":"112"},"本科","学士",{"$f":"VLOOKUP(B37,[1]Sheet1!B$2:Y$74,17,0)","v":"佛山科学技术学院"},"英语","连州市北山中学"]
[36,"陈潼儿",{"$f":"VLOOKUP(B38,[1]Sheet1!B$2:Y$74,9,0)","v":"初中英语教师"},{"$f":"VLOOKUP(B38,[1]Sheet1!B$2:Y$74,8,0)","v":"112"},"本科","学士",{"$f":"VLOOKUP(B38,[1]Sheet1!B$2:Y$74,17,0)","v":"嘉应学院"},"英语","连州市大路边中学"]
[37,"刘颖",{"$f":"VLOOKUP(B39,[1]Sheet1!B$2:Y$74,9,0)","v":"初中英语教师"},{"$f":"VLOOKUP(B39,[1]Sheet1!B$2:Y$74,8,0)","v":"112"},"本科","学士",{"$f":"VLOOKUP(B39,[1]Sheet1!B$2:Y$74,17,0)","v":"湖南文理学院"},"英语","连州市西岸中心学校"]
[38,"曾诗平",{"$f":"VLOOKUP(B40,[1]Sheet1!B$2:Y$74,9,0)","v":"初中英语教师"},{"$f":"VLOOKUP(B40,[1]Sheet1!B$2:Y$74,8,0)","v":"112"},"本科","学士",{"$f":"VLOOKUP(B40,[1]Sheet1!B$2:Y$74,17,0)","v":"湖南科技学院"},"英语","连州市北山中学"]
[39,"朱静雯",{"$f":"VLOOKUP(B41,[1]Sheet1!B$2:Y$74,9,0)","v":"初中英语教师"},{"$f":"VLOOKUP(B41,[1]Sheet1!B$2:Y$74,8,0)","v":"112"},"本科","学士",{"$f":"VLOOKUP(B41,[1]Sheet1!B$2:Y$74,17,0)","v":"宜春学院"},"英语","连州市大路边镇山塘学校"]
[40,"黄俊伟",{"$f":"VLOOKUP(B42,[1]Sheet1!B$2:Y$74,9,0)","v":"初中物理教师"},{"$f":"VLOOKUP(B42,[1]Sheet1!B$2:Y$74,8,0)","v":"113"},"本科","学士",{"$f":"VLOOKUP(B42,[1]Sheet1!B$2:Y$74,17,0)","v":"韶关学院"},"物理学","广州六中连州实验中学"]
[41,"骆齐",{"$f":"VLOOKUP(B43,[1]Sheet1!B$2:Y$74,9,0)","v":"初中历史教师"},{"$f":"VLOOKUP(B43,[1]Sheet1!B$2:Y$74,8,0)","v":"114"},"本科","学士",{"$f":"VLOOKUP(B43,[1]Sheet1!B$2:Y$74,17,0)","v":"韩山师范学院"},"历史学","连州市第二中学"]
[42,"朱伟乾",{"$f":"VLOOKUP(B44,[1]Sheet1!B$2:Y$74,9,0)","v":"初中历史教师"},{"$f":"VLOOKUP(B44,[1]Sheet1!B$2:Y$74,8,0)","v":"114"},"本科","学士",{"$f":"VLOOKUP(B44,[1]Sheet1!B$2:Y$74,17,0)","v":"广东石油化工学院"},"历史学（师范）","连州市龙坪中学"]
[43,"陈琼姿",{"$f":"VLOOKUP(B45,[1]Sheet1!B$2:Y$74,9,0)","v":"初中体育教师"},{"$f":"VLOOKUP(B45,[1]Sheet1!B$2:Y$74,8,0)","v":"115"},"本科","学士",{"$f":"VLOOKUP(B45,[1]Sheet1!B$2:Y$74,17,0)","v":"韶关学院"},"体育教育","连州市北山中学"]
[44,"张应坤",{"$f":"VLOOKUP(B46,[1]Sheet1!B$2:Y$74,9,0)","v":"初中体育教师"},{"$f":"VLOOKUP(B46,[1]Sheet1!B$2:Y$74,8,0)","v":"115"},"本科","学士",{"$f":"VLOOKUP(B46,[1]Sheet1!B$2:Y$74,17,0)","v":"肇庆学院"},"体育教育","连州市慧光中学"]
[45,"吴杏子",{"$f":"VLOOKUP(B47,[1]Sheet1!B$2:Y$74,9,0)","v":"初中心理健康教师"},{"$f":"VLOOKUP(B47,[1]Sheet1!B$2:Y$74,8,0)","v":"116"},"本科","学士",{"$f":"VLOOKUP(B47,[1]Sheet1!B$2:Y$74,17,0)","v":"广东技术师范大学"},"应用心理学（师范）","九陂镇中心学校"]
[{"$f":"ROW()-2","v":46},"盘卓媛",{"$f":"VLOOKUP(B48,[1]Sheet1!B$2:Y$74,9,0)","v":"初中心理健康教师"},{"$f":"VLOOKUP(B48,[1]Sheet1!B$2:Y$74,8,0)","v":"116"},"本科","学士",{"$f":"VLOOKUP(B48,[1]Sheet1!B$2:Y$74,17,0)","v":"广东技术师范大学"},"应用心理学（师范）","保安镇中心学校"]
[47,"吕铃香",{"$f":"VLOOKUP(B49,[1]Sheet1!B$2:Y$74,9,0)","v":"初中心理健康教师"},{"$f":"VLOOKUP(B49,[1]Sheet1!B$2:Y$74,8,0)","v":"116"},"本科","学士",{"$f":"VLOOKUP(B49,[1]Sheet1!B$2:Y$74,17,0)","v":"曲阜师范大学"},"心理学","龙坪镇中心小学"]
[48,"潘韵烨",{"$f":"VLOOKUP(B50,[1]Sheet1!B$2:Y$74,9,0)","v":"初中心理健康教师"},{"$f":"VLOOKUP(B50,[1]Sheet1!B$2:Y$74,8,0)","v":"116"},"本科","学士",{"$f":"VLOOKUP(B50,[1]Sheet1!B$2:Y$74,17,0)","v":"嘉应学院"},"心理学","大路边镇中心小学"]
[49,"李婧怡",{"$f":"VLOOKUP(B51,[1]Sheet1!B$2:Y$74,9,0)","v":"初中心理健康教师"},{"$f":"VLOOKUP(B51,[1]Sheet1!B$2:Y$74,8,0)","v":"116"},"本科","学士",{"$f":"VLOOKUP(B51,[1]Sheet1!B$2:Y$74,17,0)","v":"岭南师范学院"},"心理学","星子镇清江学校"]
[50,"欧阳世桃",{"$f":"VLOOKUP(B52,[1]Sheet1!B$2:Y$74,9,0)","v":"职业技术学校数学教师"},{"$f":"VLOOKUP(B52,[1]Sheet1!B$2:Y$74,8,0)","v":"117"},"本科","学士",{"$f":"VLOOKUP(B52,[1]Sheet1!B$2:Y$74,17,0)","v":"湖北工程学院"},"数学与应用数学","连州市职业技术学校"]
[51,"麦琦",{"$f":"VLOOKUP(B53,[1]Sheet1!B$2:Y$74,9,0)","v":"职业技术学校英语教师"},{"$f":"VLOOKUP(B53,[1]Sheet1!B$2:Y$74,8,0)","v":"119"},"本科","学士",{"$f":"VLOOKUP(B53,[1]Sheet1!B$2:Y$74,17,0)","v":"湖北师范学院"},"英语","连州市职业技术学校"]
[52,"刘静雯",{"$f":"VLOOKUP(B54,[1]Sheet1!B$2:Y$74,9,0)","v":"职业技术学校体育教师"},{"$f":"VLOOKUP(B54,[1]Sheet1!B$2:Y$74,8,0)","v":"120"},"本科","学士",{"$f":"VLOOKUP(B54,[1]Sheet1!B$2:Y$74,17,0)","v":"广州体育学院"},"体育教育","连州市职业技术学校"]
[53,"莫锦华",{"$f":"VLOOKUP(B55,[1]Sheet1!B$2:Y$74,9,0)","v":"职业技术学校历史教师"},{"$f":"VLOOKUP(B55,[1]Sheet1!B$2:Y$74,8,0)","v":"121"},"本科","学士",{"$f":"VLOOKUP(B55,[1]Sheet1!B$2:Y$74,17,0)","v":"肇庆学院"},"历史学","连州市职业技术学校"]
[54,"李心薇",{"$f":"VLOOKUP(B56,[1]Sheet1!B$2:Y$74,9,0)","v":"职业技术学校地理教师"},{"$f":"VLOOKUP(B56,[1]Sheet1!B$2:Y$74,8,0)","v":"123"},"本科","学士",{"$f":"VLOOKUP(B56,[1]Sheet1!B$2:Y$74,17,0)","v":"衡阳师范学院南岳学院"},"地理科学","连州市职业技术学校"]
[55,"盘孟贵",{"$f":"VLOOKUP(B57,[1]Sheet1!B$2:Y$74,9,0)","v":"职业技术学校心理教师"},{"$f":"VLOOKUP(B57,[1]Sheet1!B$2:Y$74,8,0)","v":"124"},"本科","学士",{"$f":"VLOOKUP(B57,[1]Sheet1!B$2:Y$74,17,0)","v":"广东技术师范大学"},"应用心理学（师范）","连州市职业技术学校"]
[56,"何如茵",{"$f":"VLOOKUP(B58,[1]Sheet1!B$2:Y$74,9,0)","v":"职业技术学校信息教师"},{"$f":"VLOOKUP(B58,[1]Sheet1!B$2:Y$74,8,0)","v":"125"},"本科","学士",{"$f":"VLOOKUP(B58,[1]Sheet1!B$2:Y$74,17,0)","v":"嘉应学院"},"教育技术学","连州市职业技术学校"]
[57,"余茹玥",{"$f":"VLOOKUP(B59,[1]Sheet1!B$2:Y$74,9,0)","v":"卫生学校语文教师"},{"$f":"VLOOKUP(B59,[1]Sheet1!B$2:Y$74,8,0)","v":"126"},"本科","学士",{"$f":"VLOOKUP(B59,[1]Sheet1!B$2:Y$74,17,0)","v":"江西科技师范大学理工学院"},"汉语言文学","广东省连州卫生学校"]
[58,"施泳霖",{"$f":"VLOOKUP(B60,[1]Sheet1!B$2:Y$74,9,0)","v":"卫生学校心理教师"},{"$f":"VLOOKUP(B60,[1]Sheet1!B$2:Y$74,8,0)","v":"127"},"研究生","硕士",{"$f":"VLOOKUP(B60,[1]Sheet1!B$2:Y$74,17,0)","v":"陕西师范大学"},"基础心理学","广东省连州卫生学校"]